BEGIN:VCALENDAR
VERSION:2.0
PRODID:-//NoonSong - ECPv6.15.20//NONSGML v1.0//EN
CALSCALE:GREGORIAN
METHOD:PUBLISH
X-WR-CALNAME:NoonSong
X-ORIGINAL-URL:https://noonsong.de
X-WR-CALDESC:Veranstaltungen für NoonSong
REFRESH-INTERVAL;VALUE=DURATION:PT1H
X-Robots-Tag:noindex
X-PUBLISHED-TTL:PT1H
BEGIN:VTIMEZONE
TZID:Europe/Berlin
BEGIN:DAYLIGHT
TZOFFSETFROM:+0100
TZOFFSETTO:+0200
TZNAME:CEST
DTSTART:20200329T010000
END:DAYLIGHT
BEGIN:STANDARD
TZOFFSETFROM:+0200
TZOFFSETTO:+0100
TZNAME:CET
DTSTART:20201025T010000
END:STANDARD
BEGIN:DAYLIGHT
TZOFFSETFROM:+0100
TZOFFSETTO:+0200
TZNAME:CEST
DTSTART:20210328T010000
END:DAYLIGHT
BEGIN:STANDARD
TZOFFSETFROM:+0200
TZOFFSETTO:+0100
TZNAME:CET
DTSTART:20211031T010000
END:STANDARD
BEGIN:DAYLIGHT
TZOFFSETFROM:+0100
TZOFFSETTO:+0200
TZNAME:CEST
DTSTART:20220327T010000
END:DAYLIGHT
BEGIN:STANDARD
TZOFFSETFROM:+0200
TZOFFSETTO:+0100
TZNAME:CET
DTSTART:20221030T010000
END:STANDARD
END:VTIMEZONE
BEGIN:VEVENT
DTSTART;TZID=Europe/Berlin:20210508T120000
DTEND;TZID=Europe/Berlin:20210508T130000
DTSTAMP:20260423T144958
CREATED:20260421T020106Z
LAST-MODIFIED:20260421T020106Z
UID:41171-1620475200-1620478800@noonsong.de
SUMMARY:537. NoonSong am 08.05.2021 um 12:00
DESCRIPTION:Programm\n\n\n\n\nOrgelvorspiel: Jan Pieterszoon Sweelinck (1562-1621): Erbarm dich mein\, o Herre Gott (SwWV 303)Preces: Thomas Tallis (ca. 1505-1585): Preces & Responses für fünfstimmig gemischten Chor a cappellaTagespsalm: Psalm 103: anonym: Lobe den Herrn\, meine Seele für vierstimmig gemischten Chor a cappellaWochenpsalm: Psalm 95: Gottfried August Homilius (1714-1785): Kommt\, lasset uns anbeten für vierstimmig gemischten Chor a cappellaResponsorium: gregorianisch\n\nCanticum: Melchior Franck (1579-1639): Magnificat primi toni aus „Laudes Dei Vespertinae“ 1622 für vierstimmig gemischten Chor a cappellaChoral: Johannes Eccard (1553-1611): Vater unser im Himmelreich für fünfstimmig gemischten Chor a cappellaOrgelnachspiel: Johann Sebastian Bach (1685-1750): Präludium G-Dur (BWV 568)Schriftlesung: Evangelium nach Lukas 11\,5-13 \n\n\n\n\n\n\n\n\nLiturgie: Rogate\nPfarrer: Dr. Sebastian W. Stork\nOrganist: Jack Day\nOrt: Kirche am Hohenzollernplatz\n\n\n\n\n\n\n\n\n\nNoonSong hören\n\n\n\nHören Sie sich an dieser Stelle den NoonSong an. Möchten Sie viele der älteren NoonSongs noch einmal hören\, bitten wir Sie\, sich anzumelden. \n\n	Dieser Inhalt ist nur für angemeldete Benutzer sichtbar. Bitte melde dich an\, um diesen Inhalt anzuzeigen.\n\n\n\n\n\n\n\n\n\nNoonSong sehen\n\n\n\nSchauen Sie sich an dieser Stelle den Video-Live-Stream des NoonSong an. \n\n\n\nAuf unserem YouTube-Kanal finden Sie außerdem zahlreiche ausgewählte Videoaufnahmen einzelner Stücke aus NoonSongs und anderen Konzerten. \n\n\n\n\n\n	Dieser Inhalt ist nur für angemeldete Benutzer sichtbar. Bitte melde dich an\, um diesen Inhalt anzuzeigen.\n\n\n\n\n\n\n\n\n\n\n\n\nProgrammheft\n\n\n\nLesen Sie an dieser Stelle das Programmheft des NoonSongs. \n\n\n\n\n\n\n\n\n\n\n\nPDF DOWNLOAD\n\n\n\n\n\n\n\n\n\n\n\n\n\n\, \, \, Tallys\, T.; Tallys\, Thomas; Talys\, Thomas; Talles\, Thomas \, \, Anonymus\, \, Homilius\, Gottfried; Homilius\, Gottfried A.; Hommilius\, Gottfried August\, Laudes Dei vespertinae\, 1. Der Lobgesang der Maria\, Francus\, Melchior; Frank\, Melchior; Franco\, Melchior; Francke\, Melchior; Franc\, Melchior; Franc\, M.\, Geistliche Lieder. Vater unser im Himmelreich\, Eccardus\, Johannes aus Mühlhausen; Eccard\, Johann; Eccard\, Johann.; Eccard\, J.; Eccard\, Johan; Eccardt\, Johannes; Eccardus\, Johannes; Eckard\, Johann\, \, Sweeling\, Jan P.; Sweelinck\, Jan P.; Sweelink\, Jan P.; Sweelinck\, …; Sweeling\, Johan Peterssen; Swelingh\, Jean Pierre; Sweelinck\, Jan Peter; Sweling\, Johan P.; Sweling\, Johann P.; Sweling\, Johan Peterssen; Sweling\, Johann Peterssen; Swelingh\, D. J.; Sweelinck\, J. P.; Sweelinck\, Jan Pieterszon; Sweelinck\, Jan Pieterszn; Sweelinck\, Jan Pieters; Sweelinck\, Jan Pieter; Sweeling\, Jan Pieterszoon; Zwelinck\, Jan Pieterszoon; Sweelingh\, Jan Pieterszoon; Sweling\, Jan Pieterszoon; Swelingh\, Jan Pieterszoon; Swelinck\, Jan Pietersz.; Swelinck\, Jan Pieterszoon; Sweelinck\, Johann Peter\, Präludium in G\nPräludien\, Org BWV 568\nfalsch: BWV 586\, Bach; Bach\, G. S.; Bach\, Iogann Sebastʹjan; Bach\, Joh. Sebastian; Bach\, Giov. Sebast.; Bach\, Jean Sebastien; Bach\, Jean Sebastian; Bach\, J. Seb.; Bach\, Sebastiano; Bach\, John Sebastian; Bach\, Iogann S.; Bach\, Iogann Sebast'jan; Bach\, Iogann Sebastian; Bach\, Giovanni Sebastian; Bach\, Johan Sebastian; Bach\, Joannes Sebastianus; Bach\, Giov. Seb.; Bach\, Giovanni S.; Bāḵ\, Jōhān Sebaṣtī'ān; Bach\, I. S.; Bach\, J.-S.; Bach\, Giovanni Sebastiano; Bach\, Jean-Sebastien; Bach\, Sebastian; Bach\, Jan Sebastian; Bach\, J. S.; Bach\, Johann-Sebastian; Bach\, Jean S.; Bach\, Johannes S.; Bach\, Johannes Sebastian; Bach\, Joh. Seb.; Bach\, Joh.-Seb.; Bach\, Joh. Sebas.; Bach\, Johann Seb.; Bach\, Joh. Sebast.; Bach\, Johann S.; Bach\, Iogann Sebastjan; Bach\, Jean Sébastien; Bach\, Jean-Sébastien; Bach\, Johann; Bakh\, Iogann Sebastian\,
URL:https://noonsong.de/event/noonsong-event-2021-05-08/
LOCATION:Kirche Am Hohenzollernplatz Berlin\, Nassauische Strasse 66\, Berlin\, Berlin\, 10717\, Deutschland
CATEGORIES:Audio,Barock,Berlin,Chor,Gottesdienst,Kirche,Klassik,Konzert,Liturgie,NoonSong,PDF,Renaissance,Video,Vokal
ATTACH;FMTTYPE=image/jpeg:https://noonsong.de/wp-content/uploads/2023/05/title-picture-for-noonsong-537.jpg
ORGANIZER;CN="NoonSong e.V.":MAILTO:contact@noonsong.de
END:VEVENT
END:VCALENDAR