BEGIN:VCALENDAR
VERSION:2.0
PRODID:-//NoonSong - ECPv6.15.20//NONSGML v1.0//EN
CALSCALE:GREGORIAN
METHOD:PUBLISH
X-WR-CALNAME:NoonSong
X-ORIGINAL-URL:https://noonsong.de
X-WR-CALDESC:Veranstaltungen für NoonSong
REFRESH-INTERVAL;VALUE=DURATION:PT1H
X-Robots-Tag:noindex
X-PUBLISHED-TTL:PT1H
BEGIN:VTIMEZONE
TZID:Europe/Berlin
BEGIN:DAYLIGHT
TZOFFSETFROM:+0100
TZOFFSETTO:+0200
TZNAME:CEST
DTSTART:20200329T010000
END:DAYLIGHT
BEGIN:STANDARD
TZOFFSETFROM:+0200
TZOFFSETTO:+0100
TZNAME:CET
DTSTART:20201025T010000
END:STANDARD
BEGIN:DAYLIGHT
TZOFFSETFROM:+0100
TZOFFSETTO:+0200
TZNAME:CEST
DTSTART:20210328T010000
END:DAYLIGHT
BEGIN:STANDARD
TZOFFSETFROM:+0200
TZOFFSETTO:+0100
TZNAME:CET
DTSTART:20211031T010000
END:STANDARD
BEGIN:DAYLIGHT
TZOFFSETFROM:+0100
TZOFFSETTO:+0200
TZNAME:CEST
DTSTART:20220327T010000
END:DAYLIGHT
BEGIN:STANDARD
TZOFFSETFROM:+0200
TZOFFSETTO:+0100
TZNAME:CET
DTSTART:20221030T010000
END:STANDARD
END:VTIMEZONE
BEGIN:VEVENT
DTSTART;TZID=Europe/Berlin:20211002T120000
DTEND;TZID=Europe/Berlin:20211002T130000
DTSTAMP:20260422T104021
CREATED:20250707T193608Z
LAST-MODIFIED:20250707T193608Z
UID:41167-1633176000-1633179600@noonsong.de
SUMMARY:552. NoonSong am 02.10.2021 um 12:00
DESCRIPTION:Programm\n\n\n\n\nOrgelvorspiel: Georgij A. Mušel' (1909-1989): Toccata aus "Usbekistan Suite"Preces: William Smith (1603-1645): Preces & Responses für vierstimmig gemischten Chor a cappellaTagespsalm: Psalm 67: August Neithardt (1793-1861): Gott\, sei uns gnädig für zwei vierstimmig gemischte Chöre a cappellaWochenpsalm: Psalm 104: Pjotr Iljitsch Tschaikowski (1840-1893): Pryednachinatyel'nyi Psalom für vierstimmig gemischten Chor a cappellaResponsorium: gregorianisch\n\nCanticum: Ēriks Ešenvalds (*1977): Magnificat für achtstimmig gemischten Chor a cappella und Sopran-SoloChoral: Johann Sebastian Bach (1685-1750): Nun preiset alle Gottes Barmherzigkeit für vierstimmig gemischten Chor a cappellaOrgelnachspiel: Anna Vavilkina (*1978): Walzer in B-Dur (Vladimir Magalashvili gewidmet)Schriftlesung: 2. Korintherbrief\, 9\,6-15 \n\n\n\n\n\n\n\n\nLiturgie: Erntedank\nPfarrer: Alexander Brodt-Zabka\nOrganist: Vladimir Magalashvili\nOrt: Kirche am Hohenzollernplatz\n\n\n\n\n\n\n\n\n\nNoonSong hören\n\n\n\nHören Sie sich an dieser Stelle den NoonSong an. Möchten Sie viele der älteren NoonSongs noch einmal hören\, bitten wir Sie\, sich anzumelden. \n\n	Dieser Inhalt ist nur für angemeldete Benutzer sichtbar. Bitte melde dich an\, um diesen Inhalt anzuzeigen.\n\n\n\n\n\n\n\n\n\nNoonSong sehen\n\n\n\nSchauen Sie sich an dieser Stelle den Video-Live-Stream des NoonSong an. \n\n\n\nAuf unserem YouTube-Kanal finden Sie außerdem zahlreiche ausgewählte Videoaufnahmen einzelner Stücke aus NoonSongs und anderen Konzerten. \n\n\n\n\n\n	Dieser Inhalt ist nur für angemeldete Benutzer sichtbar. Bitte melde dich an\, um diesen Inhalt anzuzeigen.\n\n\n\n\n\n\n\n\n\n\n\n\nProgrammheft\n\n\n\nLesen Sie an dieser Stelle das Programmheft des NoonSongs. \n\n\n\n\n\n\n\n\n\n\n\nPDF DOWNLOAD\n\n\n\n\n\n\n\n\n\n\n\n\n\n\, \, \, \, \, Neithardt\, A. ((August)\, ;1793-1861); Neithardt\, Heinrich August; Neidhardt\, August Heinrich; Neithardt\, August H.; Neithardt\, A.; Neithardt\, Heinrich A.; Neithart\, August Heinrich; Neithart\, Aug.; Neithardt\, …; Neithard\, …; Neithardt\, August Heinrich; Neithardt\, August H.; Neithardt\, Heinrich August\, Предначинательныи Псалом\, Благослови душе моя Господа\, Blagoslovi dushe moya\, Čajkovskij\, Pëtr Ilʹič; Čaikovskij\, Petr I.; Čaikovskij\, Pëtr I.; Čajkovskij\, P.; Čajkovskij\, Pe͏̈tr; Čajkovskij\, Pëtr Ilič; Čajkovskij\, Pëtr Il'ič; Čajkovskij\, …; Čajkovskij\, Petr Iljič; Čajkovskij\, Pjotr Ilʹič; Chaǐkovskii\, Petr I.; Chaikovsky\, P.; Ciaikovsky\, Peter; Ciaikovsky\, Piotr; Ciaikovsky\, Piotr I.; Csajkovszkij\, P.; Csajkovszkij\, Péter; Csajkovszky\, Péter; Sinopov\, P. (Pseudonym); Tchai̋kovski\, P.; Tchaikovski\, Peter; Tchai͏̈kovski\, Piotr; Tchaikovski\, Piotr I.; Tchai͏̈kovski\, Piotr Ilyitch; Tchaikovsky\, …; Tchai͏̈kovsky\, …; Tchaikovsky\, P.; Tchaikovsky\, P. I.; Tchaikovsky\, Peter; Tchaikovsky\, Peter I.; Tchaikovsky\, Peter Illyich; Tchaikovsky\, Peter Ilych; Tchaikovsky\, Peter J.; Tchaikovsky\, Petr; Tchaikovsky\, Petr I.; Tchaikovsky\, Pe͏̈tr I.; Tchaikovsky\, Piotr; Tchaikovsky\, Piotr I.; Tchai̋kovsky\, Piotr I.; Tchai̋kovsky\, Piotr Illitch; Tchaikovsky\, Piotr Il'yich; Tchaikovsky\, Piotr-Ilyitch; Tchaikovsky\, Pjotr I.; Tchaikovsky\, Pyotr; Tchaikovsky\, Pyotr I.; Tchaikovsky\, Pyotr Ilyich; Tchaikovsky\, Pyotr Il'yich; Tchaikowsky\, Piotr I.; Tchai͏̈kowsky\, Piotr Ilyitch; Tciaikowski\, Pietro; Tschaikovsky\, Peter; Tschaikovsky\, Peter I.; Tschaikowsk\, Peter; Tschaikowski\, …; Tschaikowski\, P.; Tschaikowski\, Peter I.; Tschaikowski\, Peter J.; Tschaikowski\, Pjotr; Tschaikowski\, Pjotr I.; Tschaikowski\, Pjotr. I.; Tschaikowskij\, P.; Tschaikowskij\, Pjotr I.; Tschaikowsky\, …; Tschaikowsky\, P.; Tschaikowsky\, P. I.; Tschaikowsky\, Peter I.; Tschaikowsky\, Peter Ilych; Tschaikowsky\, Peter J.; Tschai̋kowsky\, Petr I.; Tschaikowsky\, Pjotr; Tschaikowsky\, Pjotr I.; Tschaikowsky\, Pjotr Iljitsch; Tschaikowsky\, Pyotr I.; Tschajkowski\, Peter I.; Tsjaikofski\, Piotr. I.; Tsjaikofski\, Pjotr I.; Tsjaikowski\, Pjotr I.; Tsjaikowski\, Pjotr. I.; Tchaikosky\, Peter Ilyich; Tchai͏̈kovski\, Piotr Ilitch; Tschaikowsky\, Peter; Tschaikowskij\, Pjotr Iljitsch; Čajkovskij\, Petr Il'ič; Čajkovskij\, Petr; Čajkovskij\, Petr I.; Čajkovskij\, Petr Ilʹič; Čajkovskij\, Pe͏̈tr Ilʹič; Tchaikovsky\, Peter Ilyich; Tchaikovsky\, Piotr Ilich; Tchaikovsky\, Pyotr Ilyitch; Tschaikowski\, Peter Iljitsch; Tschaikowski\, Pjotr Iljitsch; Tschaikowsky\, Peter Iljitsch; Tschaikowski\, Peter; Tschajkowskij\, Pjotr Iljitsch; Chaykovskii\, Peter Ilich; Ciaikovski\, Peter Ilic; Tschaikowskij\, Peter; Ciaikovsky\, Piotr Ilic; Ciaikovski\, Piotr Ilic; Tchaikovsky\, Pyotr Ilʹyich; Tschaikovsky\, Peter Iljitsch; Tschaikowskij\, Peter Iljitsch; Tschaikovsky\, Peter Ilyich; Tchai͏̈kovski\, Petr Ilitch; Tschaikowsky\, Peter Iljitch; Tchaikovskij\, Piotr Ilic; Tchaikovsky\, Peter Ilich; Tschaikowski\, Peter Illic; Chaĭkovski\, Petr Ilich; Tchaikovsky\, Piotr Ilyich; Tchaikowsky\, Peter Ilitsch; Tchai͏̈kovski\, Peter Ilitch; Čajkovskij\, P. I.; Tchaikovski\, Piotr Ilyitch; Čaikovskij\, Petr Ilʹič; Čajkovskij\, Petr Illič; Tchaikovsky\, Peter Ilyitch; Tschaikowsky\, Peter Jljitsch; Tchaikovski\, Pyotr Ilyich; Tchaikovsky\, Pyotr Ilych; Čajkovskij\, Peter I.; Tchaikovsky-Serebrier\, …; Tchaikovsky\, Piotr Ilyitch; Tschai͏̈kowsky\, P.; C̆ajkovskij\, P. I.; C̆ajkovskij\, Petr; Tchaikowsky\, Pyotr; Tschaikovskij\, Peter Iljitsch; Ciajkovskij\, Piotr Ilich; Tchaikovsky\, Petr Ilich; Tjajkovskij\, Pjotr; Tchaikovski; Tschaikowsky; Ceaicovschi\, P. I.; Ceaikovski\, P.; Tsjaikofsky\, P.; Čajkovskij\, Petr Ilič; Cajkovskij\, Pe͏̈tr I.; Tchaikowsky\, Peter Ilich; Tchaikovsky\, Pjotr; Tschaikovskij\, Peter Iljitsch; Czajkowski\, Piotr; Чайковский\, Пётр Ильич\, \, Esenvalds\, Eriks \, \, Bach; Bach\, G. S.; Bach\, Iogann Sebastʹjan; Bach\, Joh. Sebastian; Bach\, Giov. Sebast.; Bach\, Jean Sebastien; Bach\, Jean Sebastian; Bach\, J. Seb.; Bach\, Sebastiano; Bach\, John Sebastian; Bach\, Iogann S.; Bach\, Iogann Sebast'jan; Bach\, Iogann Sebastian; Bach\, Giovanni Sebastian; Bach\, Johan Sebastian; Bach\, Joannes Sebastianus; Bach\, Giov. Seb.; Bach\, Giovanni S.; Bāḵ\, Jōhān Sebaṣtī'ān; Bach\, I. S.; Bach\, J.-S.; Bach\, Giovanni Sebastiano; Bach\, Jean-Sebastien; Bach\, Sebastian; Bach\, Jan Sebastian; Bach\, J. S.; Bach\, Johann-Sebastian; Bach\, Jean S.; Bach\, Johannes S.; Bach\, Johannes Sebastian; Bach\, Joh. Seb.; Bach\, Joh.-Seb.; Bach\, Joh. Sebas.; Bach\, Johann Seb.; Bach\, Joh. Sebast.; Bach\, Johann S.; Bach\, Iogann Sebastjan; Bach\, Jean Sébastien; Bach\, Jean-Sébastien; Bach\, Johann; Bakh\, Iogann Sebastian\, \, Muschel\, Georgi Alexandrowitsch; Mušelʹ\, Georgij A.; Mušelʹ\, Georgij Aleksandrovič; Mušel'\, Georgij Aleksandrovič; Mušel'\, Georgii; Mušel'\, G.; Mušel\, Georgij A.; Muschel\, Georgi; Muschel\, Georgi A.; Muschel\, Georgy A.; Mushel\, Georgi; Mushelʹ\, Georgii Aleksandrovich; Mushel\, Georgi\, \, \,
URL:https://noonsong.de/event/noonsong-event-2021-10-02/
LOCATION:Kirche Am Hohenzollernplatz Berlin\, Nassauische Strasse 66\, Berlin\, Berlin\, 10717\, Deutschland
CATEGORIES:20. Jahrhundert,21. Jahrhundert,Audio,Barock,Berlin,Chor,Gottesdienst,Kirche,Konzert,Liturgie,NoonSong,PDF,Romantik,Video,Vokal
ATTACH;FMTTYPE=image/jpeg:https://noonsong.de/wp-content/uploads/2023/05/title-picture-for-noonsong-552.jpg
ORGANIZER;CN="NoonSong e.V.":MAILTO:contact@noonsong.de
END:VEVENT
END:VCALENDAR