BEGIN:VCALENDAR
VERSION:2.0
PRODID:-//NoonSong - ECPv6.15.20//NONSGML v1.0//EN
CALSCALE:GREGORIAN
METHOD:PUBLISH
X-WR-CALNAME:NoonSong
X-ORIGINAL-URL:https://noonsong.de
X-WR-CALDESC:Veranstaltungen für NoonSong
REFRESH-INTERVAL;VALUE=DURATION:PT1H
X-Robots-Tag:noindex
X-PUBLISHED-TTL:PT1H
BEGIN:VTIMEZONE
TZID:Europe/Berlin
BEGIN:DAYLIGHT
TZOFFSETFROM:+0100
TZOFFSETTO:+0200
TZNAME:CEST
DTSTART:20200329T010000
END:DAYLIGHT
BEGIN:STANDARD
TZOFFSETFROM:+0200
TZOFFSETTO:+0100
TZNAME:CET
DTSTART:20201025T010000
END:STANDARD
BEGIN:DAYLIGHT
TZOFFSETFROM:+0100
TZOFFSETTO:+0200
TZNAME:CEST
DTSTART:20210328T010000
END:DAYLIGHT
BEGIN:STANDARD
TZOFFSETFROM:+0200
TZOFFSETTO:+0100
TZNAME:CET
DTSTART:20211031T010000
END:STANDARD
BEGIN:DAYLIGHT
TZOFFSETFROM:+0100
TZOFFSETTO:+0200
TZNAME:CEST
DTSTART:20220327T010000
END:DAYLIGHT
BEGIN:STANDARD
TZOFFSETFROM:+0200
TZOFFSETTO:+0100
TZNAME:CET
DTSTART:20221030T010000
END:STANDARD
END:VTIMEZONE
BEGIN:VEVENT
DTSTART;TZID=Europe/Berlin:20211113T120000
DTEND;TZID=Europe/Berlin:20211113T130000
DTSTAMP:20260421T115151
CREATED:20250707T194222Z
LAST-MODIFIED:20250707T194222Z
UID:42628-1636804800-1636808400@noonsong.de
SUMMARY:558. NoonSong am 13.11.2021 um 12:00
DESCRIPTION:Programm\n\n\n\n\nOrgelvorspiel: Felix Mendelssohn Bartholdy (1809-1847): Präludium G-Dur op. 37\,2 (MWV W 22)\, 1837Preces: William Byrd (ca. 1540-1623): Preces & Responses für fünfstimmig gemischten Chor a cappellaTagespsalm: Psalm 6: John Dowland (1563-1626): Lord in thy wrath reprove me not für vierstimmig gemischten Chor a cappellaWochenpsalm: Psalm 50: Joseph Haydn (1732-1809): The Lord th‘almighty Monarch\, spake für dreistimmig gemischten Chor a cappellaResponsorium: gregorianisch\n\nCanticum: Gallus Dressler (1533-ca.1581): Ich bin die Auferstehung und das Leben für vierstimmig gemischten Chor a cappellaChoral: Michael Praetorius (1571-1621): Es ist gewisslich an der Zeit für vierstimmig gemischten Chor a cappellaOrgelnachspiel: Felix Mendelssohn Bartholdy (1809-1847): Fuge G-Dur\, op. 37\,2 (MWV W 20) (1836)Schriftlesung: Brief an die Römer 14\,7-12 \n\n\n\n\n\n\n\n\nLiturgie: Vorletzter Sonntag im Kirchenjahr\nPfarrer: Dr. Sebastian W. Stork\nOrganist: Mirlan Kasymaliev\nOrt: Kirche am Hohenzollernplatz\n\n\n\n\n\n\n\n\n\nNoonSong hören\n\n\n\nHören Sie sich an dieser Stelle den NoonSong an. Möchten Sie viele der älteren NoonSongs noch einmal hören\, bitten wir Sie\, sich anzumelden. \n\n	Dieser Inhalt ist nur für angemeldete Benutzer sichtbar. Bitte melde dich an\, um diesen Inhalt anzuzeigen.\n\n\n\n\n\n\n\n\n\nNoonSong sehen\n\n\n\nSchauen Sie sich an dieser Stelle den Video-Live-Stream des NoonSong an. \n\n\n\nAuf unserem YouTube-Kanal finden Sie außerdem zahlreiche ausgewählte Videoaufnahmen einzelner Stücke aus NoonSongs und anderen Konzerten. \n\n\n\n\n\n	Dieser Inhalt ist nur für angemeldete Benutzer sichtbar. Bitte melde dich an\, um diesen Inhalt anzuzeigen.\n\n\n\n\n\n\n\n\n\n\n\n\nProgrammheft\n\n\n\nLesen Sie an dieser Stelle das Programmheft des NoonSongs. \n\n\n\n\n\n\n\n\n\n\n\nPDF DOWNLOAD\n\n\n\n\n\n\n\n\n\n\n\n\n\n\, \, \, Byrd\, …; Byrd\, W.; Byrd\, Guil.; Byrd of Virginia\, William; Berd\, V.; Byred\, William; Bird\, William; Byrde\, William\, \, Daurando\, Jon; Dovland\, Iohn; Douland\, John; Dowland\, J.; Dooland\, John \, \, Hayden\, Giuseppe; Hayden\, Joseph; Hayden; Haydn; Haydn\, Frans Joseph; Gajdn\, Franc Iozef; Haidn\, Joseph; Haydn\, Giusseppe; Haydn\, Ioseph; Hayd'n\, I.; Hayd'n\, J.; Haiden\, Joseph; Gajdn\, Jozef; Gaiden; Heyden\, Joseph; Heydn\, Ioseph; Heydn\, Joseph; Haydn\, Franz Josef; Haydn\, Franz J.; Haydn\, Jos.; Haydn\, J.; Haydn\, Iosephvs; Haydn\, Giuseppe; Gajdn\, Josef; Haydn\, Josef; Haydn\, Franz Joseph; Gajdn\, I.\, \, Dreßler\, Gallus; Dreßlerus\, Gallus; Dreszlerus\, Gallus; Dresseler\, Gallus; Dresler\, Gallus \, \, Praetorius\, M.; Praetorius; Praetorij\, Michaëlis; Prätorius\, Michael; Prätorius\, Mich.; Schultheiß\, Michael; Schultheiss\, Michael\, Präludien und Fugen\, Org\, op. 37. Präludium und Fuge Nr. 2\, Mendelssohn-Bartholdy\, Felix; Mendelssohn-Bartholdi\, Felix; Mendelssohn Bartholdi; Mendelssohn-Bartholdy\, Felix; Mendelssohn B.\, Felix; Mendelssohn Bartholdy\, Jakob Ludwig Felix; Mendelssohn-Bartholdy\, Jakob Ludwig Felix; Mendelssohn-Bartholdy\, Jacob Ludwig Felix; Mendelssohn Bartholdy\, Felix Jakob; Mendelssohn\, Jakob Ludwig Felix; Mendelssohn Bartholdy\, F.; Mendelssohn Bartholdy; Mendelssohn-Bartholdy; Mendelssohn; F.; Mendelson-Bartoldi\, Feliks; Mendelʹson-Bartolʹdi\, Feliks; Mendelsson-Bartholdy\, Felix; Mendelsohn-Bartholdy\, Felix; Bartholdy\, Felix Mendelssohn; Mendelssohn\, Felix; Mendelssohn\, F.; Mendelssohn-Bartholdy\, F.; Mendelssohn Batholdy\, Felix; Mendel'son\, Feliks; Mendel'son\, F.\, Präludien und Fugen\, Org\, op. 37. Präludium und Fuge Nr. 2\, Mendelssohn-Bartholdy\, Felix; Mendelssohn-Bartholdi\, Felix; Mendelssohn Bartholdi; Mendelssohn-Bartholdy\, Felix; Mendelssohn B.\, Felix; Mendelssohn Bartholdy\, Jakob Ludwig Felix; Mendelssohn-Bartholdy\, Jakob Ludwig Felix; Mendelssohn-Bartholdy\, Jacob Ludwig Felix; Mendelssohn Bartholdy\, Felix Jakob; Mendelssohn\, Jakob Ludwig Felix; Mendelssohn Bartholdy\, F.; Mendelssohn Bartholdy; Mendelssohn-Bartholdy; Mendelssohn; F.; Mendelson-Bartoldi\, Feliks; Mendelʹson-Bartolʹdi\, Feliks; Mendelsson-Bartholdy\, Felix; Mendelsohn-Bartholdy\, Felix; Bartholdy\, Felix Mendelssohn; Mendelssohn\, Felix; Mendelssohn\, F.; Mendelssohn-Bartholdy\, F.; Mendelssohn Batholdy\, Felix; Mendel'son\, Feliks; Mendel'son\, F.\,
URL:https://noonsong.de/event/noonsong-event-2021-11-13/
LOCATION:Kirche Am Hohenzollernplatz Berlin\, Nassauische Strasse 66\, Berlin\, Berlin\, 10717\, Deutschland
CATEGORIES:Audio,Barock,Berlin,Chor,Gottesdienst,Kirche,Klassik,Konzert,Liturgie,NoonSong,PDF,Renaissance,Romantik,Video,Vokal
ATTACH;FMTTYPE=image/jpeg:https://noonsong.de/wp-content/uploads/2023/05/title-picture-for-noonsong-558.jpg
ORGANIZER;CN="NoonSong e.V.":MAILTO:contact@noonsong.de
END:VEVENT
END:VCALENDAR