BEGIN:VCALENDAR
VERSION:2.0
PRODID:-//NoonSong - ECPv6.15.20//NONSGML v1.0//EN
CALSCALE:GREGORIAN
METHOD:PUBLISH
X-WR-CALNAME:NoonSong
X-ORIGINAL-URL:https://noonsong.de
X-WR-CALDESC:Veranstaltungen für NoonSong
REFRESH-INTERVAL;VALUE=DURATION:PT1H
X-Robots-Tag:noindex
X-PUBLISHED-TTL:PT1H
BEGIN:VTIMEZONE
TZID:Europe/Berlin
BEGIN:DAYLIGHT
TZOFFSETFROM:+0100
TZOFFSETTO:+0200
TZNAME:CEST
DTSTART:20220327T010000
END:DAYLIGHT
BEGIN:STANDARD
TZOFFSETFROM:+0200
TZOFFSETTO:+0100
TZNAME:CET
DTSTART:20221030T010000
END:STANDARD
BEGIN:DAYLIGHT
TZOFFSETFROM:+0100
TZOFFSETTO:+0200
TZNAME:CEST
DTSTART:20230326T010000
END:DAYLIGHT
BEGIN:STANDARD
TZOFFSETFROM:+0200
TZOFFSETTO:+0100
TZNAME:CET
DTSTART:20231029T010000
END:STANDARD
BEGIN:DAYLIGHT
TZOFFSETFROM:+0100
TZOFFSETTO:+0200
TZNAME:CEST
DTSTART:20240331T010000
END:DAYLIGHT
BEGIN:STANDARD
TZOFFSETFROM:+0200
TZOFFSETTO:+0100
TZNAME:CET
DTSTART:20241027T010000
END:STANDARD
END:VTIMEZONE
BEGIN:VEVENT
DTSTART;TZID=Europe/Berlin:20230121T120000
DTEND;TZID=Europe/Berlin:20230121T130000
DTSTAMP:20260419T173332
CREATED:20250707T193934Z
LAST-MODIFIED:20250707T193934Z
UID:41658-1674302400-1674306000@noonsong.de
SUMMARY:610. NoonSong am 21.01.2023 um 12:00
DESCRIPTION:Programm\n\n\n\n\nOrgelvorspiel: Jack Day (*1979): ImprovisationPreces: Elisabeth Fischer-Sgard (*1965): Preces und Responses für achtstimmig gemischten Chor a cappellaTagespsalm: Psalm 99: Robert Brisco Earée (1846-1928): Double Chant in G für vierstimmig gemischten Chor a cappellaWochenpsalm: Psalm 86: Gustav Holst (1874-1934): To my humble supplication für Sopran- und Tenor-Solo\, vierstimmig gemischten Chor und OrgelResponsorium: gregorianisch\n\nCanticum: Phillip A. Cooke (*1980): Verbum caro factum est für vierstimmig gemischten Chor a cappellaChoral: Melchior Vulpius (1570-1615): Lobt Gott den Herrn\, ihr Heiden all für vierstimmig gemischten Chor a cappellaOrgelnachspiel: Jack Day (*1979): ImprovisationSchriftlesung: Evangelium nach Matthäus 8\,5-13 \n\n\n\n\n\n\n\n\nLiturgie: 3. Sonntag nach Epiphanias\nPfarrer: Dr. Sebastian W. Stork\nOrganist: Jack Day\nOrt: Kirche am Hohenzollernplatz\n\n\n\n\n\n\n\n\n\nNoonSong hören\n\n\n\nHören Sie sich an dieser Stelle den NoonSong an. Möchten Sie viele der älteren NoonSongs noch einmal hören\, bitten wir Sie\, sich anzumelden. \n\n	Dieser Inhalt ist nur für angemeldete Benutzer sichtbar. Bitte melde dich an\, um diesen Inhalt anzuzeigen.\n\n\n\n\n\n\n\n\n\nNoonSong sehen\n\n\n\nSchauen Sie sich an dieser Stelle den Video-Live-Stream des NoonSong an. \n\n\n\nAuf unserem YouTube-Kanal finden Sie außerdem zahlreiche ausgewählte Videoaufnahmen einzelner Stücke aus NoonSongs und anderen Konzerten. \n\n\n\n\n\n	Dieser Inhalt ist nur für angemeldete Benutzer sichtbar. Bitte melde dich an\, um diesen Inhalt anzuzeigen.\n\n\n\n\n\n\n\n\n\n\n\n\nProgrammheft\n\n\n\nLesen Sie an dieser Stelle das Programmheft des NoonSongs. \n\n\n\n\n\n\n\n\n\n\n\nPDF DOWNLOAD\n\n\n\n\n\n\n\n\n\n\n\n\n\n\, \, \, Fischer\, Elisabeth\, \, \, \, Holst\, Gustav\, 1874-1934; Holst\, Gustav Theodor; Holst\, Gustavus Theodore von; Holst\, Gustav Theodore von; Holst\, Gustav Th.; Holst\, G. T.; Holst\, Gustav T.; Von Holst\, Gustav; Holst\, Gustav von; Von Holst\, Gustavus Theodore\, \, \, \, Volpius\, Melchior; Fuchs\, Melchior; Vulpius\, Melchiorus\, \, \, \, \,
URL:https://noonsong.de/event/noonsong-event-2023-01-21/
LOCATION:Kirche Am Hohenzollernplatz Berlin\, Nassauische Strasse 66\, Berlin\, Berlin\, 10717\, Deutschland
CATEGORIES:20. Jahrhundert,21. Jahrhundert,Audio,Barock,Berlin,Chor,Gottesdienst,Kirche,Konzert,Liturgie,NoonSong,PDF,Renaissance,Romantik,Video,Vokal
ATTACH;FMTTYPE=image/jpeg:https://noonsong.de/wp-content/uploads/2023/05/title-picture-for-noonsong-610.jpg
ORGANIZER;CN="NoonSong e.V.":MAILTO:contact@noonsong.de
END:VEVENT
END:VCALENDAR