BEGIN:VCALENDAR
VERSION:2.0
PRODID:-//NoonSong - ECPv6.15.20//NONSGML v1.0//EN
CALSCALE:GREGORIAN
METHOD:PUBLISH
X-WR-CALNAME:NoonSong
X-ORIGINAL-URL:https://noonsong.de
X-WR-CALDESC:Veranstaltungen für NoonSong
REFRESH-INTERVAL;VALUE=DURATION:PT1H
X-Robots-Tag:noindex
X-PUBLISHED-TTL:PT1H
BEGIN:VTIMEZONE
TZID:Europe/Berlin
BEGIN:DAYLIGHT
TZOFFSETFROM:+0100
TZOFFSETTO:+0200
TZNAME:CEST
DTSTART:20220327T010000
END:DAYLIGHT
BEGIN:STANDARD
TZOFFSETFROM:+0200
TZOFFSETTO:+0100
TZNAME:CET
DTSTART:20221030T010000
END:STANDARD
BEGIN:DAYLIGHT
TZOFFSETFROM:+0100
TZOFFSETTO:+0200
TZNAME:CEST
DTSTART:20230326T010000
END:DAYLIGHT
BEGIN:STANDARD
TZOFFSETFROM:+0200
TZOFFSETTO:+0100
TZNAME:CET
DTSTART:20231029T010000
END:STANDARD
BEGIN:DAYLIGHT
TZOFFSETFROM:+0100
TZOFFSETTO:+0200
TZNAME:CEST
DTSTART:20240331T010000
END:DAYLIGHT
BEGIN:STANDARD
TZOFFSETFROM:+0200
TZOFFSETTO:+0100
TZNAME:CET
DTSTART:20241027T010000
END:STANDARD
END:VTIMEZONE
BEGIN:VEVENT
DTSTART;TZID=Europe/Berlin:20230311T120000
DTEND;TZID=Europe/Berlin:20230311T130000
DTSTAMP:20260424T120156
CREATED:20250707T194048Z
LAST-MODIFIED:20250707T194048Z
UID:41567-1678536000-1678539600@noonsong.de
SUMMARY:617. NoonSong am 11.03.2023 um 12:00
DESCRIPTION:Programm\n\n\n\n\nOrgelvorspiel: Josef Gabriel Rheinberger (1839-1901): Vision\, aus: Zwölf Charakterstücke (op. 156\,5)Preces: Philip Radcliffe (1905-1986): Preces & Responses für vierstimmig gemischten Chor a cappellaTagespsalm: Psalm 141: Moritz Brosig (1815-1887): Dirigatur oratio mea für vierstimmig gemischten Chor a cappellaWochenpsalm: Psalm 34b: Thomas Norris (1741-1790): Anglican Chant für vierstimmig gemischten Chor a cappellaResponsorium: gregorianisch\n\nCanticum: John Stainer (1840-1901): God so loved the world für vierstimmig gemischten Chor a cappellaChoral: Adam Drese (1620-1701): Jesu geh voran für vierstimmig gemischten Chor a cappellaOrgelnachspiel: Mikalojus Konstantinas Čiurlionis (1875-1911): Fuge und Choral c-moll "Kyrie eleison"Schriftlesung: Evangelium nach Lukas 9\,57-62 \n\n\n\n\n\n\n\n\nLiturgie: Okuli\nPfarrer: Pater Klaus Mertes SJ\nOrganistin: Karolina Juodelyte\nOrt: Kirche am Hohenzollernplatz\n\n\n\n\n\n\n\n\n\nNoonSong hören\n\n\n\nHören Sie sich an dieser Stelle den NoonSong an. Möchten Sie viele der älteren NoonSongs noch einmal hören\, bitten wir Sie\, sich anzumelden. \n\n	Dieser Inhalt ist nur für angemeldete Benutzer sichtbar. Bitte melde dich an\, um diesen Inhalt anzuzeigen.\n\n\n\n\n\n\n\n\n\nNoonSong sehen\n\n\n\nSchauen Sie sich an dieser Stelle den Video-Live-Stream des NoonSong an. \n\n\n\nAuf unserem YouTube-Kanal finden Sie außerdem zahlreiche ausgewählte Videoaufnahmen einzelner Stücke aus NoonSongs und anderen Konzerten. \n\n\n\n\n\n	Dieser Inhalt ist nur für angemeldete Benutzer sichtbar. Bitte melde dich an\, um diesen Inhalt anzuzeigen.\n\n\n\n\n\n\n\n\n\n\n\n\nProgrammheft\n\n\n\nLesen Sie an dieser Stelle das Programmheft des NoonSongs. \n\n\n\n\n\n\n\n\n\n\n\nPDF DOWNLOAD\n\n\n\n\n\n\n\n\n\n\n\n\n\n\, \, \, Radcliffe\, Philip F.; Radcliffe\, Philip Fitzhugh\, \, \, \, \, \, Stainer\, John\, Sir\, \, Dreße\, Adam; Dresen\, Ad.; Drese\, Adam II.\, Charakterstücke\, Org op. 156. Vision\, Rheinberger\, Josef\, 1839-1901; Rheinberger\, …; Rheinberger\, Gabriel; Rheinberger\, Josef von; Rheinberger\, Giuseppe; Rheinberger\, Gabriel J.; Rheinberger\, Joseph Gabriel von; Rheinberger\, J.; Rheinberger\, J. G.; Rheinberger\, Josef G.; Rheinberger\, Jos.; Rheinberger\, Josef Gabriel; Rheinberger\, Gabriel Joseph; Rheinberger\, Gabriel Josef; Rheinberger\, Joseph von; Rheinberger\, Joseph Gabriel; Rheinberger\, Joseph G.; Rheinberger\, Josef\, \, Čiurlionis\, Mikalojus K.; Čiurlionis\, Mikaloius Konstantinas; Čiurlionis\, Mikaloius K.; Čjurlenis\, M. K.; Čiurlionis\, M. K.; Čurljanis\, M. K.; Čjurljënis\, Mikalojus Konstantinas; Čiurlionis\, Mikolajus Konstantinas; Ėiurlionis\, M. K.; Čiurlionis\, Mikolas Konstantas; Čiurlionis\, Mikalojus Konstantas; Churlyonis\, Mykolas; Čiurlianis\, Mikalojus Konstantinas; Czurlanis\, Mikolaj Konstanty; Czurlanis\, Mikołaj Konstanty; Ciurlionis\, M. K.; Čjurljěnis\, M. K.; Čjurlenis\, Mikalojus Konstantinas; Čjurlënis\, Mikalojus Konstantinas; Ciurlionis\, Nikolaus Konstantin; Čurljanis\, Nikolaj Konstantinovič; Ciurlionis\, Mykolas Konstantas; Čjurlënis\, Mikalojus Konstantinas; Churlenis\, Mikalois Konstantinas; Chururyōnisu\, Mikaroyusu Konsutantinasu; Čiurlionis\, Mikolajus Konstantinus; Čiurlionis\, Nikolaus Konstantin\,
URL:https://noonsong.de/event/noonsong-event-2023-03-11/
LOCATION:Kirche Am Hohenzollernplatz Berlin\, Nassauische Strasse 66\, Berlin\, Berlin\, 10717\, Deutschland
CATEGORIES:20. Jahrhundert,Audio,Barock,Berlin,Chor,Gottesdienst,Kirche,Klassik,Konzert,Liturgie,NoonSong,PDF,Romantik,Video,Vokal
ATTACH;FMTTYPE=image/jpeg:https://noonsong.de/wp-content/uploads/2023/05/title-picture-for-noonsong-617.jpg
ORGANIZER;CN="NoonSong e.V.":MAILTO:contact@noonsong.de
END:VEVENT
END:VCALENDAR