BEGIN:VCALENDAR
VERSION:2.0
PRODID:-//NoonSong - ECPv6.15.20//NONSGML v1.0//EN
CALSCALE:GREGORIAN
METHOD:PUBLISH
X-WR-CALNAME:NoonSong
X-ORIGINAL-URL:https://noonsong.de
X-WR-CALDESC:Veranstaltungen für NoonSong
REFRESH-INTERVAL;VALUE=DURATION:PT1H
X-Robots-Tag:noindex
X-PUBLISHED-TTL:PT1H
BEGIN:VTIMEZONE
TZID:Europe/Berlin
BEGIN:DAYLIGHT
TZOFFSETFROM:+0100
TZOFFSETTO:+0200
TZNAME:CEST
DTSTART:20220327T010000
END:DAYLIGHT
BEGIN:STANDARD
TZOFFSETFROM:+0200
TZOFFSETTO:+0100
TZNAME:CET
DTSTART:20221030T010000
END:STANDARD
BEGIN:DAYLIGHT
TZOFFSETFROM:+0100
TZOFFSETTO:+0200
TZNAME:CEST
DTSTART:20230326T010000
END:DAYLIGHT
BEGIN:STANDARD
TZOFFSETFROM:+0200
TZOFFSETTO:+0100
TZNAME:CET
DTSTART:20231029T010000
END:STANDARD
BEGIN:DAYLIGHT
TZOFFSETFROM:+0100
TZOFFSETTO:+0200
TZNAME:CEST
DTSTART:20240331T010000
END:DAYLIGHT
BEGIN:STANDARD
TZOFFSETFROM:+0200
TZOFFSETTO:+0100
TZNAME:CET
DTSTART:20241027T010000
END:STANDARD
END:VTIMEZONE
BEGIN:VEVENT
DTSTART;TZID=Europe/Berlin:20230506T120000
DTEND;TZID=Europe/Berlin:20230506T130000
DTSTAMP:20260421T102946
CREATED:20260418T020049Z
LAST-MODIFIED:20260418T020049Z
UID:41591-1683374400-1683378000@noonsong.de
SUMMARY:624. NoonSong am 06.05.2023 um 12:00
DESCRIPTION:Programm\n\n\n\n\nOrgelvorspiel: William Boyce (1711-1779): Voluntary in DPreces: John Bertalot (1931-2026): Preces & Responses für vierstimmig gemischten Chor a cappellaTagespsalm: Psalm 9\,9-10: George James Webb (1803-1887): The Lord will be a refuge für vierstimmig gemischten Chor a cappellaWochenpsalm: Psalm 98: Henry Purcell (1659-1695): Cantate Domino in B\, Z 230/9 für fünfstimmig gemischten Chor und ContinuoResponsorium: gregorianisch\n\nCanticum: Lodovico Viadana (1560-1627): Magnificat primi toni für vierstimmig gemischten Chor a cappellaChoral: Johann Georg Ebeling (1637-1676): Du meine Seele singe für vierstimmig gemischten Chor a cappellaOrgelnachspiel: Henry Thomas Smart (1813-1879): Festive MarchSchriftlesung: Evangelium nach Lukas 19\,37-40 \n\n\n\n\n\n\n\n\nLiturgie: Kantate\nPfarrer: Martin Germer\nOrganist: Daniel Clark\nOrt: Kirche am Hohenzollernplatz\n\n\n\n\n\n\n\n\n\nNoonSong hören\n\n\n\nHören Sie sich an dieser Stelle den NoonSong an. Möchten Sie viele der älteren NoonSongs noch einmal hören\, bitten wir Sie\, sich anzumelden. \n\n	Dieser Inhalt ist nur für angemeldete Benutzer sichtbar. Bitte melde dich an\, um diesen Inhalt anzuzeigen.\n\n\n\n\n\n\n\n\n\nNoonSong sehen\n\n\n\nSchauen Sie sich an dieser Stelle den Video-Live-Stream des NoonSong an. \n\n\n\nAuf unserem YouTube-Kanal finden Sie außerdem zahlreiche ausgewählte Videoaufnahmen einzelner Stücke aus NoonSongs und anderen Konzerten. \n\n\n\n\n\n	Dieser Inhalt ist nur für angemeldete Benutzer sichtbar. Bitte melde dich an\, um diesen Inhalt anzuzeigen.\n\n\n\n\n\n\n\n\n\n\n\n\nProgrammheft\n\n\n\nLesen Sie an dieser Stelle das Programmheft des NoonSongs. \n\n\n\n\n\n\n\n\n\n\n\nPDF DOWNLOAD\n\n\n\n\n\n\n\n\n\n\n\n\n\n\, \, \, \, \, \, Services Z 230\, Purcell\, Henry; Purcell\, …; Purcel\, …; Purcel\, Henry; Purcell\, H.; Purcell\, Henri; Purcel\, Henri\, \, Viadana\, Ludwig; Grossi\, Ludovico; Viadana\, Lodovico Grossi da; Viadana\, L.; Viadana\, Lodovico G. da; Vidadan\, Ludovico; Grosso da Viadana\, Ludovico; Viadana\, Ludovicus; Viadana\, Ludovico Grossi da; Viadana\, Ludovico da; Grossi da Viadana\, Ludovico; Viadana\, Ludovico; Da Viadana\, Lodovico; Grossi da Viadana\, Ludovido; Da Viadana\, Ludovico; Grossi da Viadana\, Lodovico; Viadana\, Lodovico da; Viadono\, Ludovico Grossi; Viadana\, Ludovico Grossi; Viadono\, Ludovico\, \, Ebeling\, Johannes Georg; Ebeling\, Joh. Georg; Ebeling\, J. G.; Ebeling\, Johann George; Ebelingius\, Johannes Georgius; Ebeling\, Johann G.; Ebeling\, Johan Georg; Ebeling Johann Georg\, \, \, The festive march in D\, \,
URL:https://noonsong.de/event/noonsong-event-2023-05-06/
LOCATION:Kirche Am Hohenzollernplatz Berlin\, Nassauische Strasse 66\, Berlin\, Berlin\, 10717\, Deutschland
CATEGORIES:20. Jahrhundert,Audio,Barock,Berlin,Chor,Gottesdienst,Kirche,Konzert,Liturgie,NoonSong,PDF,Renaissance,Romantik,Video,Vokal
ATTACH;FMTTYPE=image/jpeg:https://noonsong.de/wp-content/uploads/2023/05/title-picture-for-noonsong-624.jpg
ORGANIZER;CN="NoonSong e.V.":MAILTO:contact@noonsong.de
END:VEVENT
END:VCALENDAR