BEGIN:VCALENDAR
VERSION:2.0
PRODID:-//NoonSong - ECPv6.15.20//NONSGML v1.0//EN
CALSCALE:GREGORIAN
METHOD:PUBLISH
X-WR-CALNAME:NoonSong
X-ORIGINAL-URL:https://noonsong.de
X-WR-CALDESC:Veranstaltungen für NoonSong
REFRESH-INTERVAL;VALUE=DURATION:PT1H
X-Robots-Tag:noindex
X-PUBLISHED-TTL:PT1H
BEGIN:VTIMEZONE
TZID:Europe/Berlin
BEGIN:DAYLIGHT
TZOFFSETFROM:+0100
TZOFFSETTO:+0200
TZNAME:CEST
DTSTART:20220327T010000
END:DAYLIGHT
BEGIN:STANDARD
TZOFFSETFROM:+0200
TZOFFSETTO:+0100
TZNAME:CET
DTSTART:20221030T010000
END:STANDARD
BEGIN:DAYLIGHT
TZOFFSETFROM:+0100
TZOFFSETTO:+0200
TZNAME:CEST
DTSTART:20230326T010000
END:DAYLIGHT
BEGIN:STANDARD
TZOFFSETFROM:+0200
TZOFFSETTO:+0100
TZNAME:CET
DTSTART:20231029T010000
END:STANDARD
BEGIN:DAYLIGHT
TZOFFSETFROM:+0100
TZOFFSETTO:+0200
TZNAME:CEST
DTSTART:20240331T010000
END:DAYLIGHT
BEGIN:STANDARD
TZOFFSETFROM:+0200
TZOFFSETTO:+0100
TZNAME:CET
DTSTART:20241027T010000
END:STANDARD
END:VTIMEZONE
BEGIN:VEVENT
DTSTART;TZID=Europe/Berlin:20230617T120000
DTEND;TZID=Europe/Berlin:20230617T130000
DTSTAMP:20260419T155701
CREATED:20250707T193547Z
LAST-MODIFIED:20250707T193547Z
UID:41353-1687003200-1687006800@noonsong.de
SUMMARY:630. NoonSong am 17.06.2023 um 12:00
DESCRIPTION:Programm\n\n\n\n\nOrgelvorspiel: Felix Mendelssohn Bartholdy (1809-1847): Sonate Nr. 6 d-Moll (op. 65)\, AndantePreces: Reimar Johne (*1969): Preces und Responses für vierstimmig gemischten Chor a cappellaTagespsalm: Psalm 147: Claudio Monteverdi (1567-1643): Lauda Jerusalem für siebenstimmig gemischten Chor und ContinuoWochenpsalm: Psalm 36: Eduard Grell (1800-1886): Herr\, Deine Güte für vierstimmig gemischten Chor a cappellaResponsorium: gregorianisch\n\nCanticum: Fortunato Santini (1778-1862): Sedenti in throno für vierstimmig gemischten Chor a cappellaChoral: Johann Crüger (1598-1662): Kommt her\, ihr seid geladen für vierstimmig gemischten Chor a cappellaOrgelnachspiel: Felix Mendelssohn Bartholdy (1809-1847): Sonate Nr. 6 d-Moll (op. 65)\, FugeSchriftlesung: Evangelium nach Matthäus 11\,25-30 \n\n\n\n\n\n\n\n\nLiturgie: 2. Sonntag nach Trinitatis\nPfarrerin: Marita Lersner\nOrganist: David Cavelius\nOrt: Kirche am Hohenzollernplatz\n\n\n\n\n\n\n\n\n\nNoonSong hören\n\n\n\nHören Sie sich an dieser Stelle den NoonSong an. Möchten Sie viele der älteren NoonSongs noch einmal hören\, bitten wir Sie\, sich anzumelden. \n\n	Dieser Inhalt ist nur für angemeldete Benutzer sichtbar. Bitte melde dich an\, um diesen Inhalt anzuzeigen.\n\n\n\n\n\n\n\n\n\nNoonSong sehen\n\n\n\nSchauen Sie sich an dieser Stelle den Video-Live-Stream des NoonSong an. \n\n\n\nAuf unserem YouTube-Kanal finden Sie außerdem zahlreiche ausgewählte Videoaufnahmen einzelner Stücke aus NoonSongs und anderen Konzerten. \n\n\n\n\n\n	Dieser Inhalt ist nur für angemeldete Benutzer sichtbar. Bitte melde dich an\, um diesen Inhalt anzuzeigen.\n\n\n\n\n\n\n\n\n\n\n\n\nProgrammheft\n\n\n\nLesen Sie an dieser Stelle das Programmheft des NoonSongs. \n\n\n\n\n\n\n\n\n\n\n\nPDF DOWNLOAD\n\n\n\n\n\n\n\n\n\n\n\n\n\n\, \, \, \, Vespro della beata vergine. Lauda\, Jerusalem\nSV 206 10\, Monteverdi; Monteverdi\, Claudio Zuan Antonio; Monteverdi\, Claudio Zuan Giovanni Antonio; Monteverdi\, C.; Montisviridius\, Claudinius; Monteverde\, Claudio; Monte Verde\, Claudio; Monsviridus\, Claudio; Montverdi\, Claudio\, Herr\, deine Güte reicht so weit\nHerr\, deine Güte reicht\, soweit der Himmel ist\nMotetten op. 13. Herr\, deine Güte reicht so weit\, Grell\, Aug. Ed.; Grell\, Eduard A.; Grell\, August B.; Grell\, E. A.; Grell\, Ed. A.; Grell\, A. E.; Grell\, August E.; Grell\, August Eduard; Grell\, Eduard August\, \, \, \, Crüger\, Johann; Crüger\, Johannes; Crüger\, J.; Crügerus\, Johannes; Krüger\, Johann; Krüger\, Johannes\, Sonaten\, Orgel\, MWV W 61 (d-Moll)\nVater-unser-Sonate\nVater unser im Himmelreich\nSonate über den Choral "Vater unser im Himmelreich"\nSonaten op. 65\, Nr. 6\nSonaten\, Org\, MWV W 56 – 61 <Sonate MWV W 61>\nSonaten\, Orgel\, op. 65. Nr. 6\nMWV W 61\, Mendelssohn-Bartholdy\, Felix; Mendelssohn-Bartholdi\, Felix; Mendelssohn Bartholdi; Mendelssohn-Bartholdy\, Felix; Mendelssohn B.\, Felix; Mendelssohn Bartholdy\, Jakob Ludwig Felix; Mendelssohn-Bartholdy\, Jakob Ludwig Felix; Mendelssohn-Bartholdy\, Jacob Ludwig Felix; Mendelssohn Bartholdy\, Felix Jakob; Mendelssohn\, Jakob Ludwig Felix; Mendelssohn Bartholdy\, F.; Mendelssohn Bartholdy; Mendelssohn-Bartholdy; Mendelssohn; F.; Mendelson-Bartoldi\, Feliks; Mendelʹson-Bartolʹdi\, Feliks; Mendelsson-Bartholdy\, Felix; Mendelsohn-Bartholdy\, Felix; Bartholdy\, Felix Mendelssohn; Mendelssohn\, Felix; Mendelssohn\, F.; Mendelssohn-Bartholdy\, F.; Mendelssohn Batholdy\, Felix; Mendel'son\, Feliks; Mendel'son\, F.\, Sonaten\, Orgel\, MWV W 61 (d-Moll)\nVater-unser-Sonate\nVater unser im Himmelreich\nSonate über den Choral "Vater unser im Himmelreich"\nSonaten op. 65\, Nr. 6\nSonaten\, Org\, MWV W 56 – 61 <Sonate MWV W 61>\nSonaten\, Orgel\, op. 65. Nr. 6\nMWV W 61\, Mendelssohn-Bartholdy\, Felix; Mendelssohn-Bartholdi\, Felix; Mendelssohn Bartholdi; Mendelssohn-Bartholdy\, Felix; Mendelssohn B.\, Felix; Mendelssohn Bartholdy\, Jakob Ludwig Felix; Mendelssohn-Bartholdy\, Jakob Ludwig Felix; Mendelssohn-Bartholdy\, Jacob Ludwig Felix; Mendelssohn Bartholdy\, Felix Jakob; Mendelssohn\, Jakob Ludwig Felix; Mendelssohn Bartholdy\, F.; Mendelssohn Bartholdy; Mendelssohn-Bartholdy; Mendelssohn; F.; Mendelson-Bartoldi\, Feliks; Mendelʹson-Bartolʹdi\, Feliks; Mendelsson-Bartholdy\, Felix; Mendelsohn-Bartholdy\, Felix; Bartholdy\, Felix Mendelssohn; Mendelssohn\, Felix; Mendelssohn\, F.; Mendelssohn-Bartholdy\, F.; Mendelssohn Batholdy\, Felix; Mendel'son\, Feliks; Mendel'son\, F.\,
URL:https://noonsong.de/event/noonsong-event-2023-06-17/
LOCATION:Kirche Am Hohenzollernplatz Berlin\, Nassauische Strasse 66\, Berlin\, Berlin\, 10717\, Deutschland
CATEGORIES:20. Jahrhundert,Audio,Barock,Berlin,Chor,Gottesdienst,Kirche,Klassik,Konzert,Liturgie,NoonSong,PDF,Renaissance,Romantik,Video,Vokal
ATTACH;FMTTYPE=image/jpeg:https://noonsong.de/wp-content/uploads/2023/05/title-picture-for-noonsong-630.jpg
ORGANIZER;CN="NoonSong e.V.":MAILTO:contact@noonsong.de
END:VEVENT
END:VCALENDAR