BEGIN:VCALENDAR
VERSION:2.0
PRODID:-//NoonSong - ECPv6.15.20//NONSGML v1.0//EN
CALSCALE:GREGORIAN
METHOD:PUBLISH
X-WR-CALNAME:NoonSong
X-ORIGINAL-URL:https://noonsong.de
X-WR-CALDESC:Veranstaltungen für NoonSong
REFRESH-INTERVAL;VALUE=DURATION:PT1H
X-Robots-Tag:noindex
X-PUBLISHED-TTL:PT1H
BEGIN:VTIMEZONE
TZID:Europe/Berlin
BEGIN:DAYLIGHT
TZOFFSETFROM:+0100
TZOFFSETTO:+0200
TZNAME:CEST
DTSTART:20230326T010000
END:DAYLIGHT
BEGIN:STANDARD
TZOFFSETFROM:+0200
TZOFFSETTO:+0100
TZNAME:CET
DTSTART:20231029T010000
END:STANDARD
BEGIN:DAYLIGHT
TZOFFSETFROM:+0100
TZOFFSETTO:+0200
TZNAME:CEST
DTSTART:20240331T010000
END:DAYLIGHT
BEGIN:STANDARD
TZOFFSETFROM:+0200
TZOFFSETTO:+0100
TZNAME:CET
DTSTART:20241027T010000
END:STANDARD
BEGIN:DAYLIGHT
TZOFFSETFROM:+0100
TZOFFSETTO:+0200
TZNAME:CEST
DTSTART:20250330T010000
END:DAYLIGHT
BEGIN:STANDARD
TZOFFSETFROM:+0200
TZOFFSETTO:+0100
TZNAME:CET
DTSTART:20251026T010000
END:STANDARD
END:VTIMEZONE
BEGIN:VEVENT
DTSTART;TZID=Europe/Berlin:20240406T120000
DTEND;TZID=Europe/Berlin:20240406T130000
DTSTAMP:20260419T171533
CREATED:20250707T193536Z
LAST-MODIFIED:20250707T193536Z
UID:44339-1712404800-1712408400@noonsong.de
SUMMARY:665. NoonSong am 06.04.2024 um 12:00 Fröhlicher internationaler Osterjubel
DESCRIPTION:Programm\n\n\n\n\nOrgelvorspiel: Jaak Nikolaas Lemmens (1823-1881): Prélude in EsPreces: Richard Ayleward (1626-1669): Preces & Responses für vierstimmig gemischten Chor a cappellaTagespsalm: Psalm 136: Charles Villiers Stanford (1852-1924): Let us\, with a gladsome mind für vierstimmigen Chor und OrgelWochenpsalm: Psalm 116a: Josef Gabriel Rheinberger (1839-1901): Ich liebe\, weil erhöret der Herr (op. 40\,1) für vierstimmig gemischten Chor a cappellaResponsorium: gregorianisch\n\nCanticum: József Karai (1927-2013): Surrexit Christus hodie für vierstimmig gemischten Chor a cappellaChoral: Heinrich Reimann (1850-1906): Mit Freuden zart für vierstimmig gemischten Chor a cappellaOrgelnachspiel: Josef Gabriel Rheinberger (1839-1901): Cantilène\, aus: Sonate für Orgel Nr. 11 (op. 148)Schriftlesung: Evangelium nach Johannes 20\,19-29 \n\n\n\n\n\n\n\n\nLiturgie: Quasimodogeniti\nPfarrer: Dr. Sebastian W. Stork\nOrganist: Mirlan Kasymaliev\nOrt: Kirche am Hohenzollernplatz\n\n\n\n\n\n\n\n\n\nNoonSong hören\n\n\n\nHören Sie sich an dieser Stelle den NoonSong an. Möchten Sie viele der älteren NoonSongs noch einmal hören\, bitten wir Sie\, sich anzumelden. \n\n	Dieser Inhalt ist nur für angemeldete Benutzer sichtbar. Bitte melde dich an\, um diesen Inhalt anzuzeigen.\n\n\n\n\n\n\n\n\n\nNoonSong sehen\n\n\n\nSchauen Sie sich an dieser Stelle den Video-Live-Stream des NoonSong an. \n\n\n\nAuf unserem YouTube-Kanal finden Sie außerdem zahlreiche ausgewählte Videoaufnahmen einzelner Stücke aus NoonSongs und anderen Konzerten. \n\n\n\n\n\n	Dieser Inhalt ist nur für angemeldete Benutzer sichtbar. Bitte melde dich an\, um diesen Inhalt anzuzeigen.\n\n\n\n\n\n\n\n\n\n\n\n\nProgrammheft\n\n\n\nLesen Sie an dieser Stelle das Programmheft des NoonSongs. \n\n\n\n\n\n\n\n\n\n\n\nPDF DOWNLOAD\n\n\n\n\n\n\n\n\n\n\n\n\n\n\, \, \, \, \, Stanford\, CH… V…; Stanford\, Charles V.; Stanford\, Charles Villier; Drofnatski\, Karel [Pseudonym]; Drofnatzki\, Karel [Pseudonym]; Lear\, E. [Pseudonym]; Stanford\, C. Villiers; Stanford\, Ch. V.; Stanford\, C. V.; Villiers Stanford\, Charles; Standford\, Charles Villiers\, Motetten\, op. 40. Ich liebe\, weil erhöret der Herr	\nIch liebe\, weil erhöret der Herr\nPsalm 114\nMotetten op. 40\, Nr. 1\, Rheinberger\, Josef\, 1839-1901; Rheinberger\, …; Rheinberger\, Gabriel; Rheinberger\, Josef von; Rheinberger\, Giuseppe; Rheinberger\, Gabriel J.; Rheinberger\, Joseph Gabriel von; Rheinberger\, J.; Rheinberger\, J. G.; Rheinberger\, Josef G.; Rheinberger\, Jos.; Rheinberger\, Josef Gabriel; Rheinberger\, Gabriel Joseph; Rheinberger\, Gabriel Josef; Rheinberger\, Joseph von; Rheinberger\, Joseph Gabriel; Rheinberger\, Joseph G.; Rheinberger\, Josef\, \, \, \, Reimann\, Henricus; Reimann\, Heinr.\, Prélude\nPräludium\, Lemmens\, Jacques-Nicolas; Lemmens\, J.-N.; Lemmens\, Nicolas J.; Lemmens\, N. J.; Lemmens\, Jacques Nicolas; Lemmens\, Jaak-Nikolaas; Lemmens\, Jacques-Nicholas; Lemmens\, Jacques; Lemmens\, Nicolas Jacques; Lemmens\, Nikolaas Jaak; Lemmens\, Nicolas Jacob\, Sonaten\, Org\, op. 148. 2. Satz\n	\nSonaten\, Org op. 148. 2. Satz\nSonaten\, Org\, op. 148 <2. Satz>\, Rheinberger\, Josef\, 1839-1901; Rheinberger\, …; Rheinberger\, Gabriel; Rheinberger\, Josef von; Rheinberger\, Giuseppe; Rheinberger\, Gabriel J.; Rheinberger\, Joseph Gabriel von; Rheinberger\, J.; Rheinberger\, J. G.; Rheinberger\, Josef G.; Rheinberger\, Jos.; Rheinberger\, Josef Gabriel; Rheinberger\, Gabriel Joseph; Rheinberger\, Gabriel Josef; Rheinberger\, Joseph von; Rheinberger\, Joseph Gabriel; Rheinberger\, Joseph G.; Rheinberger\, Josef\,
URL:https://noonsong.de/event/noonsong-event-2024-04-06/
LOCATION:Kirche Am Hohenzollernplatz Berlin\, Nassauische Strasse 66\, Berlin\, Berlin\, 10717\, Deutschland
CATEGORIES:20. Jahrhundert,Audio,Barock,Berlin,Chor,Gottesdienst,Kirche,Konzert,Liturgie,NoonSong,PDF,Romantik,Video,Vokal
ATTACH;FMTTYPE=image/jpeg:https://noonsong.de/wp-content/uploads/2024/02/title-picture-for-noonsong-665.jpg
ORGANIZER;CN="NoonSong e.V.":MAILTO:contact@noonsong.de
END:VEVENT
END:VCALENDAR