BEGIN:VCALENDAR
VERSION:2.0
PRODID:-//NoonSong - ECPv6.15.20//NONSGML v1.0//EN
CALSCALE:GREGORIAN
METHOD:PUBLISH
X-WR-CALNAME:NoonSong
X-ORIGINAL-URL:https://noonsong.de
X-WR-CALDESC:Veranstaltungen für NoonSong
REFRESH-INTERVAL;VALUE=DURATION:PT1H
X-Robots-Tag:noindex
X-PUBLISHED-TTL:PT1H
BEGIN:VTIMEZONE
TZID:Europe/Berlin
BEGIN:DAYLIGHT
TZOFFSETFROM:+0100
TZOFFSETTO:+0200
TZNAME:CEST
DTSTART:20230326T010000
END:DAYLIGHT
BEGIN:STANDARD
TZOFFSETFROM:+0200
TZOFFSETTO:+0100
TZNAME:CET
DTSTART:20231029T010000
END:STANDARD
BEGIN:DAYLIGHT
TZOFFSETFROM:+0100
TZOFFSETTO:+0200
TZNAME:CEST
DTSTART:20240331T010000
END:DAYLIGHT
BEGIN:STANDARD
TZOFFSETFROM:+0200
TZOFFSETTO:+0100
TZNAME:CET
DTSTART:20241027T010000
END:STANDARD
BEGIN:DAYLIGHT
TZOFFSETFROM:+0100
TZOFFSETTO:+0200
TZNAME:CEST
DTSTART:20250330T010000
END:DAYLIGHT
BEGIN:STANDARD
TZOFFSETFROM:+0200
TZOFFSETTO:+0100
TZNAME:CET
DTSTART:20251026T010000
END:STANDARD
END:VTIMEZONE
BEGIN:VEVENT
DTSTART;TZID=Europe/Berlin:20240713T120000
DTEND;TZID=Europe/Berlin:20240713T130000
DTSTAMP:20260421T115136
CREATED:20250707T194155Z
LAST-MODIFIED:20250707T194155Z
UID:44567-1720872000-1720875600@noonsong.de
SUMMARY:679. NoonSong am 13.07.2024 um 12:00 Romantische Musik zum Saisonausklang
DESCRIPTION:Programm\n\n\n\n\nOrgelvorspiel: Camille Saint-Saëns (1835-1921): Improvisation op. 150\,4 (Allegretto)Preces: John Reading (ca. 1645-1692): Preces & Responses für vierstimmig gemischten Chor a cappellaTagespsalm: Psalm 84: Camille Saint-Saëns (1835-1921): Quam dilecta für vierstimmig gemischten Chor und OrgelWochenpsalm: Psalm 107: Henry Hadley (1871-1937): O give thanks unto the lord für vierstimmig gemischten Chor und OrgelResponsorium: gregorianisch\n\nCanticum: Wolfram Buchenberg (*1962): Ich bin das Brot des Lebens für achtstimmig gemischten Chor a cappellaChoral: Johann Crüger (1598-1662): Nun lasst uns Gott\, dem Herren für vierstimmig gemischten Chor a cappellaOrgelnachspiel: Camille Saint-Saëns (1835-1921): Improvisation op.150\, 7 (Allegro giocoso)Schriftlesung: Evangelium nach Johannes 6\,1-15 \n\n\n\n\n\n\n\n\nLiturgie: 7. Sonntag nach Trinitatis\nPfarrer: Martin Germer\nOrganist: Daniel Clark\nOrt: Kirche am Hohenzollernplatz\n\n\n\n\n\n\n\n\n\nNoonSong hören\n\n\n\nHören Sie sich an dieser Stelle den NoonSong an. Möchten Sie viele der älteren NoonSongs noch einmal hören\, bitten wir Sie\, sich anzumelden. \n\n	Dieser Inhalt ist nur für angemeldete Benutzer sichtbar. Bitte melde dich an\, um diesen Inhalt anzuzeigen.\n\n\n\n\n\n\n\n\n\nNoonSong sehen\n\n\n\nSchauen Sie sich an dieser Stelle den Video-Live-Stream des NoonSong an. \n\n\n\nAuf unserem YouTube-Kanal finden Sie außerdem zahlreiche ausgewählte Videoaufnahmen einzelner Stücke aus NoonSongs und anderen Konzerten. \n\n\n\n\n\n	Dieser Inhalt ist nur für angemeldete Benutzer sichtbar. Bitte melde dich an\, um diesen Inhalt anzuzeigen.\n\n\n\n\n\n\n\n\n\n\n\n\nProgrammheft\n\n\n\nLesen Sie an dieser Stelle das Programmheft des NoonSongs. \n\n\n\n\n\n\n\n\n\n\n\nPDF DOWNLOAD\n\n\n\n\n\n\n\n\n\n\n\n\n\n\, \, \, \, O wie lieblich ist deine Wohnung\, Herr\nop. 148\, Saint-Saens\, Camille; Saint-Saëns\, Charles Camille; Saëns\, Camille Saint; Saint-Saens\, Camillo; Saint-Saens\, Camilo; Saint-Saëns\, Charles-Camille; Saint-Saëns\, Charles Camile; Saint-Saëns\, Charles Camille de; Saint-Saëns\, C.; Saint-Saëns; Sain-Saëns\, Charles C.; Saint Saëns\, Charles-Camille; Saëns\, Charles-Camille Saint-; Sain-Sans\, Kamil; San-Sānsu; Sen-Sans\, K.; Sen-Sans\, Kamilʹ; Sen-Sans\, Šarlʹ Kamilʹ; Saint-Sants\, Camille; Saint-Saëns\, Camille; Saint-Saëns\, Charles-Camille; Saint-Saëns\, Charles Camille\, \, Hadley\, Henry Kimball; Hadley\, Henri; Hadley\, H. K.; Hadley\, Henry K.; Kimball Hadley\, Henry\, \, \, \, Crüger\, Johann; Crüger\, Johannes; Crüger\, J.; Crügerus\, Johannes; Krüger\, Johann; Krüger\, Johannes\, Improvisationen\, Orgel\, op. 150\, Saint-Saens\, Camille; Saint-Saëns\, Charles Camille; Saëns\, Camille Saint; Saint-Saens\, Camillo; Saint-Saens\, Camilo; Saint-Saëns\, Charles-Camille; Saint-Saëns\, Charles Camile; Saint-Saëns\, Charles Camille de; Saint-Saëns\, C.; Saint-Saëns; Sain-Saëns\, Charles C.; Saint Saëns\, Charles-Camille; Saëns\, Charles-Camille Saint-; Sain-Sans\, Kamil; San-Sānsu; Sen-Sans\, K.; Sen-Sans\, Kamilʹ; Sen-Sans\, Šarlʹ Kamilʹ; Saint-Sants\, Camille; Saint-Saëns\, Camille; Saint-Saëns\, Charles-Camille; Saint-Saëns\, Charles Camille\, Improvisationen op. 150\, 7\, Saint-Saens\, Camille; Saint-Saëns\, Charles Camille; Saëns\, Camille Saint; Saint-Saens\, Camillo; Saint-Saens\, Camilo; Saint-Saëns\, Charles-Camille; Saint-Saëns\, Charles Camile; Saint-Saëns\, Charles Camille de; Saint-Saëns\, C.; Saint-Saëns; Sain-Saëns\, Charles C.; Saint Saëns\, Charles-Camille; Saëns\, Charles-Camille Saint-; Sain-Sans\, Kamil; San-Sānsu; Sen-Sans\, K.; Sen-Sans\, Kamilʹ; Sen-Sans\, Šarlʹ Kamilʹ; Saint-Sants\, Camille; Saint-Saëns\, Camille; Saint-Saëns\, Charles-Camille; Saint-Saëns\, Charles Camille\,
URL:https://noonsong.de/event/noonsong-event-2024-07-13/
LOCATION:Kirche Am Hohenzollernplatz Berlin\, Nassauische Strasse 66\, Berlin\, Berlin\, 10717\, Deutschland
CATEGORIES:20. Jahrhundert,Audio,Avantgarde,Barock,Berlin,Chor,Gottesdienst,Kirche,Konzert,Liturgie,NoonSong,PDF,Romantik,Video,Vokal
ATTACH;FMTTYPE=image/jpeg:https://noonsong.de/wp-content/uploads/2024/03/title-picture-for-noonsong-679.jpg
ORGANIZER;CN="NoonSong e.V.":MAILTO:contact@noonsong.de
END:VEVENT
END:VCALENDAR