BEGIN:VCALENDAR
VERSION:2.0
PRODID:-//NoonSong - ECPv6.15.20//NONSGML v1.0//EN
CALSCALE:GREGORIAN
METHOD:PUBLISH
X-WR-CALNAME:NoonSong
X-ORIGINAL-URL:https://noonsong.de
X-WR-CALDESC:Veranstaltungen für NoonSong
REFRESH-INTERVAL;VALUE=DURATION:PT1H
X-Robots-Tag:noindex
X-PUBLISHED-TTL:PT1H
BEGIN:VTIMEZONE
TZID:Europe/Berlin
BEGIN:DAYLIGHT
TZOFFSETFROM:+0100
TZOFFSETTO:+0200
TZNAME:CEST
DTSTART:20230326T010000
END:DAYLIGHT
BEGIN:STANDARD
TZOFFSETFROM:+0200
TZOFFSETTO:+0100
TZNAME:CET
DTSTART:20231029T010000
END:STANDARD
BEGIN:DAYLIGHT
TZOFFSETFROM:+0100
TZOFFSETTO:+0200
TZNAME:CEST
DTSTART:20240331T010000
END:DAYLIGHT
BEGIN:STANDARD
TZOFFSETFROM:+0200
TZOFFSETTO:+0100
TZNAME:CET
DTSTART:20241027T010000
END:STANDARD
BEGIN:DAYLIGHT
TZOFFSETFROM:+0100
TZOFFSETTO:+0200
TZNAME:CEST
DTSTART:20250330T010000
END:DAYLIGHT
BEGIN:STANDARD
TZOFFSETFROM:+0200
TZOFFSETTO:+0100
TZNAME:CET
DTSTART:20251026T010000
END:STANDARD
END:VTIMEZONE
BEGIN:VEVENT
DTSTART;TZID=Europe/Berlin:20240928T120000
DTEND;TZID=Europe/Berlin:20240928T130000
DTSTAMP:20260420T110345
CREATED:20250707T193546Z
LAST-MODIFIED:20250707T193546Z
UID:45107-1727524800-1727528400@noonsong.de
SUMMARY:685. NoonSong am 28.09.2024 um 12:00 Englische Kirchenmusik aus drei Epochen
DESCRIPTION:Programm\n\n\n\n\nOrgelvorspiel: Samuel Sebastian Wesley (1810-1876): Andante maestoso in GPreces: Richard Ayleward (1626-1669): Preces & Responses für vierstimmig gemischten Chor a cappellaTagespsalm: Psalm 51b: Samuel Sebastian Wesley (1810-1876): Cast me not away für sechsstimmig gemischten Chor und OrgelWochenpsalm: Psalm 1: Thomas Tallis (ca. 1505-1585): Men blest no doubt für vierstimmig gemischten Chor a cappellaResponsorium: gregorianisch\n\nCanticum: Richard Ayleward (1626-1669): Magnificat aus dem "Short service" für fünfstimmig gemischten Chor und ContinuoChoral: Johann Anastasius Freylinghausen (1670-1739): Lass mich\, o Herr\, in allen Dingen für vierstimmig gemischten Chor a cappellaOrgelnachspiel: William Russell (1777-1813): Fugue in D Major (aus "Voluntary XXIV")Schriftlesung: Evangelium nach Markus 10\,17-27 \n\n\n\n\n\n\n\n\nLiturgie: 18. Sonntag nach Trinitatis\nPfarrerin: Claudia Wüstenhagen\nOrganist: Daniel Clark\nOrt: Kirche am Hohenzollernplatz\n\n\n\n\n\n\n\n\n\nNoonSong hören\n\n\n\nHören Sie sich an dieser Stelle den NoonSong an. Möchten Sie viele der älteren NoonSongs noch einmal hören\, bitten wir Sie\, sich anzumelden. \n\n	Dieser Inhalt ist nur für angemeldete Benutzer sichtbar. Bitte melde dich an\, um diesen Inhalt anzuzeigen.\n\n\n\n\n\n\n\n\n\nProgrammheft\n\n\n\nLesen Sie an dieser Stelle das Programmheft des NoonSongs. \n\n\n\n\n\n\n\n\n\n\n\nPDF DOWNLOAD\n\n\n\n\n\n\n\n\n\n\n\n\n\n\, \, \, \, \, \, \, Tallys\, T.; Tallys\, Thomas; Talys\, Thomas; Talles\, Thomas \, \, \, \, Freylingshausen\, Johann Anastasius; Freylinghausen\, Joh. Anast.; Freylinghausen; Freylinghausen\, Johannes Anastasius; Freylinghusius\, Joannes Anastasius; Freylinghausen\, Joannes Anastasius; Freylinghausen\, J. A.; Freylinghausen\, Johann A.; Freylingshausen\, Johann A.; Freilinghausen\, Joh. Anast.; Freilinghausen\, Johann Anastasius; Freylinghausen\, Johann Anastasio; Freylinghausen\, Iohannes Anastasius; Freylinghausen\, Ioannes Anastasius; Freylinghaußen; Freylinghaußen\, Johann Anastasius; Phreulingchusios\, Iōannēs Anastasios\, Andantes\, Orgel (G-Dur)\, \, Voluntaries\, Orgel (1804)\, Russell\, W.; Russell\, Wm.\,
URL:https://noonsong.de/event/noonsong-event-2024-09-28/
LOCATION:Kirche Am Hohenzollernplatz Berlin\, Nassauische Strasse 66\, Berlin\, Berlin\, 10717\, Deutschland
CATEGORIES:Audio,Barock,Berlin,Chor,Gottesdienst,Kirche,Klassik,Konzert,Liturgie,NoonSong,PDF,Renaissance,Romantik,Vokal
ATTACH;FMTTYPE=image/jpeg:https://noonsong.de/wp-content/uploads/2024/07/title-picture-for-noonsong-685.jpg
ORGANIZER;CN="NoonSong e.V.":MAILTO:contact@noonsong.de
END:VEVENT
END:VCALENDAR