BEGIN:VCALENDAR
VERSION:2.0
PRODID:-//NoonSong - ECPv6.15.20//NONSGML v1.0//EN
CALSCALE:GREGORIAN
METHOD:PUBLISH
X-WR-CALNAME:NoonSong
X-ORIGINAL-URL:https://noonsong.de
X-WR-CALDESC:Veranstaltungen für NoonSong
REFRESH-INTERVAL;VALUE=DURATION:PT1H
X-Robots-Tag:noindex
X-PUBLISHED-TTL:PT1H
BEGIN:VTIMEZONE
TZID:Europe/Berlin
BEGIN:DAYLIGHT
TZOFFSETFROM:+0100
TZOFFSETTO:+0200
TZNAME:CEST
DTSTART:20240331T010000
END:DAYLIGHT
BEGIN:STANDARD
TZOFFSETFROM:+0200
TZOFFSETTO:+0100
TZNAME:CET
DTSTART:20241027T010000
END:STANDARD
BEGIN:DAYLIGHT
TZOFFSETFROM:+0100
TZOFFSETTO:+0200
TZNAME:CEST
DTSTART:20250330T010000
END:DAYLIGHT
BEGIN:STANDARD
TZOFFSETFROM:+0200
TZOFFSETTO:+0100
TZNAME:CET
DTSTART:20251026T010000
END:STANDARD
BEGIN:DAYLIGHT
TZOFFSETFROM:+0100
TZOFFSETTO:+0200
TZNAME:CEST
DTSTART:20260329T010000
END:DAYLIGHT
BEGIN:STANDARD
TZOFFSETFROM:+0200
TZOFFSETTO:+0100
TZNAME:CET
DTSTART:20261025T010000
END:STANDARD
END:VTIMEZONE
BEGIN:VEVENT
DTSTART;TZID=Europe/Berlin:20250426T120000
DTEND;TZID=Europe/Berlin:20250426T130000
DTSTAMP:20260419T155619
CREATED:20250707T194143Z
LAST-MODIFIED:20250707T194143Z
UID:56126-1745668800-1745672400@noonsong.de
SUMMARY:713. NoonSong am 26.04.2025 um 12:00 Musik zur Enthüllung der Stele für Ossip Klarwein
DESCRIPTION:Programm\n\n\n\n\nOrgelvorspiel: Ernest Bloch (1880-1959): Processional aus "Six Preludes for Organ"Preces: Richard Ayleward (1626-1669): Preces & Responses für vierstimmig gemischten Chor a cappellaTagespsalm: Psalm 19b: Ernest Bloch (1880-1959): Yih‘yu L‘ratzon für vierstimmig gemischten ChorWochenpsalm: Psalm 116b: Johann Bach (1604-1673): Sei nun wieder zufrieden\, meine Seele für zwei vierstimmige ChöreResponsorium: gregorianisch\n\nCanticum: Hugo Distler (1908-1942): Te Deum für dreistimmig gemischten Chor a cappellaChoral: Hugo Distler (1908-1942): Mit Freuden zart für dreistimmigen Frauenchor a cappellaOrgelnachspiel: Henri Mulet (1878-1967): Tu es petra et portae inferni non praevalebunt adversus teSchriftlesung: Evangelium nach Johannes 20\,19-29 \n\n\n\n\n\n\n\n\nLiturgie: Quasimodogeniti\nPfarrerin: Marita Lersner\nOrganist: Vladimir Magalashvili\nOrt: Kirche am Hohenzollernplatz\n\n\n\n\n\n\n\n\n\nNoonSong hören\n\n\n\nHören Sie sich an dieser Stelle den NoonSong an. Möchten Sie viele der älteren NoonSongs noch einmal hören\, bitten wir Sie\, sich anzumelden. \n\n	Dieser Inhalt ist nur für angemeldete Benutzer sichtbar. Bitte melde dich an\, um diesen Inhalt anzuzeigen.\n\n\n\n\n\n\n\n\n\nNoonSong sehen\n\n\n\nSchauen Sie sich an dieser Stelle den Video-Live-Stream des NoonSong an. \n\n\n\nAuf unserem YouTube-Kanal finden Sie außerdem zahlreiche ausgewählte Videoaufnahmen einzelner Stücke aus NoonSongs und anderen Konzerten. \n\n\n\n\n\n	Dieser Inhalt ist nur für angemeldete Benutzer sichtbar. Bitte melde dich an\, um diesen Inhalt anzuzeigen.\n\n\n\n\n\n\n\n\n\n\n\, \, \, \, \, Bloch\, Ernst\, Sei nun wieder zufrieden\, Bach\, Johannes; Bach\, Hans\, \, Distler\, H.; Distler\, August Hugo\, \, Distler\, H.; Distler\, August Hugo\, Präludien\, Orgel (1949)\nPreludes\, Orgel (1949)\, Bloch\, Ernst\, Esquisses byzantines. Tu es petra\, Mulet\, Henry\,
URL:https://noonsong.de/event/noonsong-event-2025-04-26/
LOCATION:Kirche Am Hohenzollernplatz Berlin\, Nassauische Strasse 66\, Berlin\, Berlin\, 10717\, Deutschland
CATEGORIES:20. Jahrhundert,Audio,Barock,Berlin,Chor,Gottesdienst,Kirche,Konzert,Liturgie,NoonSong,Video,Vokal
ATTACH;FMTTYPE=image/jpeg:https://noonsong.de/wp-content/uploads/2025/04/title-picture-for-noonsong-713.jpg
ORGANIZER;CN="NoonSong e.V.":MAILTO:contact@noonsong.de
END:VEVENT
END:VCALENDAR