BEGIN:VCALENDAR
VERSION:2.0
PRODID:-//NoonSong - ECPv6.15.20//NONSGML v1.0//EN
CALSCALE:GREGORIAN
METHOD:PUBLISH
X-WR-CALNAME:NoonSong
X-ORIGINAL-URL:https://noonsong.de
X-WR-CALDESC:Veranstaltungen für NoonSong
REFRESH-INTERVAL;VALUE=DURATION:PT1H
X-Robots-Tag:noindex
X-PUBLISHED-TTL:PT1H
BEGIN:VTIMEZONE
TZID:Europe/Berlin
BEGIN:DAYLIGHT
TZOFFSETFROM:+0100
TZOFFSETTO:+0200
TZNAME:CEST
DTSTART:20250330T010000
END:DAYLIGHT
BEGIN:STANDARD
TZOFFSETFROM:+0200
TZOFFSETTO:+0100
TZNAME:CET
DTSTART:20251026T010000
END:STANDARD
BEGIN:DAYLIGHT
TZOFFSETFROM:+0100
TZOFFSETTO:+0200
TZNAME:CEST
DTSTART:20260329T010000
END:DAYLIGHT
BEGIN:STANDARD
TZOFFSETFROM:+0200
TZOFFSETTO:+0100
TZNAME:CET
DTSTART:20261025T010000
END:STANDARD
BEGIN:DAYLIGHT
TZOFFSETFROM:+0100
TZOFFSETTO:+0200
TZNAME:CEST
DTSTART:20270328T010000
END:DAYLIGHT
BEGIN:STANDARD
TZOFFSETFROM:+0200
TZOFFSETTO:+0100
TZNAME:CET
DTSTART:20271031T010000
END:STANDARD
END:VTIMEZONE
BEGIN:VEVENT
DTSTART;TZID=Europe/Berlin:20260117T120000
DTEND;TZID=Europe/Berlin:20260117T130000
DTSTAMP:20260419T173346
CREATED:20260124T120408Z
LAST-MODIFIED:20260124T120408Z
UID:58374-1768651200-1768654800@noonsong.de
SUMMARY:744. NoonSong am 17.01.2026 um 12:00 Achtstimmige Kathedralmusik von Händels Kollegen
DESCRIPTION:Programm\n\n\n\n\nOrgelvorspiel: Johann Gottfried Walther (1684-1748): Concerto del Sigr. Meck\, h-Moll\, 1. Satz AllegroPreces: Richard Ayleward (1626-1669): Preces & Responses für vierstimmig gemischten Chor a cappellaTagespsalm: Psalm 110: Lodovico Viadana (1560-1627): Falsibordone für vierstimmig gemischten Chor a cappellaWochenpsalm: Psalm 105\,1-8: William Boyce (1711-1779): O give thanks für achtstimmigen Chor mit ContinuoResponsorium: gregorianisch\n\nCanticum: Hans Leo Haßler (1564-1612): Verbum caro factum est für sechsstimmig gemischten Chor a cappellaChoral: Giovanni Giacomo Gastoldi (ca.1550-1622): In dir ist Freude für fünfstimmig gemischten Chor a cappellaOrgelnachspiel: Johann Gottfried Walther (1684-1748): Concerto del Sigr. Meck\, h-Moll\, 3. Satz AllegroSchriftlesung: Evangelium nach Johannes 2\,1-11 \n\n\n\n\n\n\n\n\nLiturgie: 2. Sonntag nach Epiphanias\nPfarrer: Dr. Sebastian W. Stork\nOrganist: Mirlan Kasymaliev\nOrt: Kirche am Hohenzollernplatz\n\n\n\n\n\n\n\n\n\nNoonSong hören\n\n\n\nHören Sie sich an dieser Stelle den NoonSong an. Möchten Sie viele der älteren NoonSongs noch einmal hören\, bitten wir Sie\, sich anzumelden. \n\n	Dieser Inhalt ist nur für angemeldete Benutzer sichtbar. Bitte melde dich an\, um diesen Inhalt anzuzeigen.\n\n\n\n\n\n\n\n\n\nNoonSong sehen\n\n\n\nSchauen Sie sich an dieser Stelle den Video-Live-Stream des NoonSong an. \n\n\n\nAuf unserem YouTube-Kanal finden Sie außerdem zahlreiche ausgewählte Videoaufnahmen einzelner Stücke aus NoonSongs und anderen Konzerten. \n\n\n\n\n\n	Dieser Inhalt ist nur für angemeldete Benutzer sichtbar. Bitte melde dich an\, um diesen Inhalt anzuzeigen.\n\n\n\n\n\n\n\n\n\n\n\n\nProgrammheft\n\n\n\nLesen Sie an dieser Stelle das Programmheft des NoonSongs. \n\n\n\n\n\n\n\n\n\n\n\nPDF DOWNLOAD\n\n\n\n\n\n\n\n\n\n\n\n\n\n\, \, \, \, Falsobordone\, Viadana\, Ludwig; Grossi\, Ludovico; Viadana\, Lodovico Grossi da; Viadana\, L.; Viadana\, Lodovico G. da; Vidadan\, Ludovico; Grosso da Viadana\, Ludovico; Viadana\, Ludovicus; Viadana\, Ludovico Grossi da; Viadana\, Ludovico da; Grossi da Viadana\, Ludovico; Viadana\, Ludovico; Da Viadana\, Lodovico; Grossi da Viadana\, Ludovido; Da Viadana\, Ludovico; Grossi da Viadana\, Lodovico; Viadana\, Lodovico da; Viadono\, Ludovico Grossi; Viadana\, Ludovico Grossi; Viadono\, Ludovico\, \, \, Cantiones sacrae de festis praecipuis totius anni. Verbum caro factum est\nVerbum caro factum est\nCantiones sacrae de festis praecipuis totius anni <Verbum caro factum est>\, Hassler\, Hans Leo; Hassler\, J. L.; Hasler\, Jean Leo; Hasler\, Hans Leo von; Hasler\, Giovan Leo; Hasler\, Ioannes Leo; Hasler\, L.; Hasler\, Hanns Leo; Hassler\, Hans L.; Hasler\, Hans L.; Hasler\, Joanne Leone; Hasler\, …; Hassler\, Johann Leo; Hasler\, Johann Leo; Hasler\, Hans Leo; Hasler\, Johannes Leo; Hasler\, J. L.; Haslerus\, Hans Leo; Hassler\, H. L.; Hassler\, Léo; Hassler\, Hans Leo; Haslero\, Joanne Leone\, L' Innamorato\nAn hellen Tagen\nA lieta vita\nIn dir ist Freude\nAn hellen Tagen (Peter Cornelius)\, Gastoldi\, Giovanni Giacomo (1582-1609); Gastoldi\, G. G.; Gastoldi\, Gio. Giacomo; Gastoldi\, Giovanni G.; Castoldi\, Giovanni; Gastoldi\, Johann-Jacobus; Gastoldi\, Giacomo; Castoldi\, Giovanni Giacomo; Gastoldi\, Jean-Jacques; Gastoldi\, Johann-Jacobi; Gastoldi\, Giovanni; Gastoldi da Caravaggio\, Giovanni Giacomo\, Concerto del Signor Meck h-Moll\nI. Satz “Allegro” aus dem Orgelkonzert nach Sigr.Meck\, Waltherus\, Johannes Godofredus; Walther\, Johannes Godofredus; Walthero\, Giovanni Godofredo; Walter\, Johann Gottfried; Walther\, Johann Gottfr.; Walther\, J. G.; Walther\, Joannes Godefridus; Walther\, Ioannes Godefridus; Walther\, Johannes Godefridus; Walther\, J. Gottfried; Walther\, J. Gottfr.\, Concerto del Signor Meck h-Moll\nIII. Satz “Allegro” aus dem Orgelkonzert nach Sigr.Meck\nOrgelkonzert h-moll nach Meck\, 3.Satz Allegro\, Waltherus\, Johannes Godofredus; Walther\, Johannes Godofredus; Walthero\, Giovanni Godofredo; Walter\, Johann Gottfried; Walther\, Johann Gottfr.; Walther\, J. G.; Walther\, Joannes Godefridus; Walther\, Ioannes Godefridus; Walther\, Johannes Godefridus; Walther\, J. Gottfried; Walther\, J. Gottfr.\,
URL:https://noonsong.de/event/noonsong-event-2026-01-17/
LOCATION:Kirche Am Hohenzollernplatz Berlin\, Nassauische Strasse 66\, Berlin\, Berlin\, 10717\, Deutschland
CATEGORIES:Audio,Barock,Berlin,Chor,Gottesdienst,Kirche,Konzert,Liturgie,NoonSong,PDF,Renaissance,Video,Vokal
ATTACH;FMTTYPE=image/jpeg:https://noonsong.de/wp-content/uploads/2025/12/title-picture-for-noonsong-744.jpg
ORGANIZER;CN="NoonSong e.V.":MAILTO:contact@noonsong.de
END:VEVENT
END:VCALENDAR